BEGIN:VCALENDAR
VERSION:2.0
PRODID:-//Urban League of Eastern Massachusetts - ECPv5.10.0//NONSGML v1.0//EN
CALSCALE:GREGORIAN
METHOD:PUBLISH
X-WR-CALNAME:Urban League of Eastern Massachusetts
X-ORIGINAL-URL:http://34.235.98.119
X-WR-CALDESC:Events for Urban League of Eastern Massachusetts
BEGIN:VTIMEZONE
TZID:UTC
BEGIN:STANDARD
TZOFFSETFROM:+0000
TZOFFSETTO:+0000
TZNAME:UTC
DTSTART:20210101T000000
END:STANDARD
END:VTIMEZONE
BEGIN:VEVENT
DTSTART;TZID=UTC:20211216T140000
DTEND;TZID=UTC:20211216T140000
DTSTAMP:20260421T094805
CREATED:20211203T233923Z
LAST-MODIFIED:20211203T233923Z
UID:2182-1639663200-1639663200@34.235.98.119
SUMMARY:Free Masks from ULEM for Holiday Protection
DESCRIPTION:
URL:http://34.235.98.119/event/free-masks-from-ulem-for-holiday-protection/
LOCATION:The Urban League of Eastern Massachusetts\, 88 Warren Street\, Roxbury\, 02119
CATEGORIES:ULEM Events
ATTACH;FMTTYPE=image/png:http://34.235.98.119/wp-content/uploads/2021/12/Mask-Flier-12-16rvsd-1.png
ORGANIZER;CN="ULEM":MAILTO:info@ulem.org
END:VEVENT
END:VCALENDAR