BEGIN:VCALENDAR
VERSION:2.0
PRODID:-//Urban League of Eastern Massachusetts - ECPv5.10.0//NONSGML v1.0//EN
CALSCALE:GREGORIAN
METHOD:PUBLISH
X-WR-CALNAME:Urban League of Eastern Massachusetts
X-ORIGINAL-URL:http://34.235.98.119
X-WR-CALDESC:Events for Urban League of Eastern Massachusetts
BEGIN:VTIMEZONE
TZID:UTC
BEGIN:STANDARD
TZOFFSETFROM:+0000
TZOFFSETTO:+0000
TZNAME:UTC
DTSTART:20210101T000000
END:STANDARD
END:VTIMEZONE
BEGIN:VEVENT
DTSTART;TZID=UTC:20211117T120000
DTEND;TZID=UTC:20211117T120000
DTSTAMP:20260421T095755
CREATED:20211116T184423Z
LAST-MODIFIED:20211116T184751Z
UID:2159-1637150400-1637150400@34.235.98.119
SUMMARY:Understanding the SBA COVID-19 Economic Injury Disaster Loan (EIDL)
DESCRIPTION:Click here to register
URL:http://34.235.98.119/event/understanding-the-sba-covid-19-economic-injury-disaster-loan-eidl/
LOCATION:Live Stream
CATEGORIES:ULEM Events
ATTACH;FMTTYPE=image/png:http://34.235.98.119/wp-content/uploads/2021/11/2021-ULEM-SBA-Flyer-NOV-2Final-1.png
END:VEVENT
END:VCALENDAR