BEGIN:VCALENDAR
VERSION:2.0
PRODID:-//Urban League of Eastern Massachusetts - ECPv5.10.0//NONSGML v1.0//EN
CALSCALE:GREGORIAN
METHOD:PUBLISH
X-WR-CALNAME:Urban League of Eastern Massachusetts
X-ORIGINAL-URL:http://34.235.98.119
X-WR-CALDESC:Events for Urban League of Eastern Massachusetts
BEGIN:VTIMEZONE
TZID:UTC
BEGIN:STANDARD
TZOFFSETFROM:+0000
TZOFFSETTO:+0000
TZNAME:UTC
DTSTART:20210101T000000
END:STANDARD
END:VTIMEZONE
BEGIN:VEVENT
DTSTART;TZID=UTC:20211216T140000
DTEND;TZID=UTC:20211216T140000
DTSTAMP:20260423T092854
CREATED:20211203T233923Z
LAST-MODIFIED:20211203T233923Z
UID:2182-1639663200-1639663200@34.235.98.119
SUMMARY:Free Masks from ULEM for Holiday Protection
DESCRIPTION:
URL:http://34.235.98.119/event/free-masks-from-ulem-for-holiday-protection/
LOCATION:The Urban League of Eastern Massachusetts\, 88 Warren Street\, Roxbury\, 02119
CATEGORIES:ULEM Events
ATTACH;FMTTYPE=image/png:http://34.235.98.119/wp-content/uploads/2021/12/Mask-Flier-12-16rvsd-1.png
ORGANIZER;CN="ULEM":MAILTO:info@ulem.org
END:VEVENT
BEGIN:VEVENT
DTSTART;TZID=UTC:20211117T120000
DTEND;TZID=UTC:20211117T120000
DTSTAMP:20260423T092854
CREATED:20211116T184423Z
LAST-MODIFIED:20211116T184751Z
UID:2159-1637150400-1637150400@34.235.98.119
SUMMARY:Understanding the SBA COVID-19 Economic Injury Disaster Loan (EIDL)
DESCRIPTION:Click here to register
URL:http://34.235.98.119/event/understanding-the-sba-covid-19-economic-injury-disaster-loan-eidl/
LOCATION:Live Stream
CATEGORIES:ULEM Events
ATTACH;FMTTYPE=image/png:http://34.235.98.119/wp-content/uploads/2021/11/2021-ULEM-SBA-Flyer-NOV-2Final-1.png
END:VEVENT
BEGIN:VEVENT
DTSTART;TZID=UTC:20211025T080000
DTEND;TZID=UTC:20211025T080000
DTSTAMP:20260423T092854
CREATED:20211021T051154Z
LAST-MODIFIED:20211027T140848Z
UID:1061-1635148800-1635148800@34.235.98.119
SUMMARY:Register today to become a Graphic Designer - DigiUL
DESCRIPTION:Request An Application On Becoming A Graphic Designer at info@digiul.design Classes starts on October 25th.
URL:http://34.235.98.119/event/register-for-digiul-classes/
LOCATION:Remote Training
CATEGORIES:ULEM Events
ATTACH;FMTTYPE=image/jpeg:http://34.235.98.119/wp-content/uploads/2021/10/DigiUL-1.jpg
END:VEVENT
BEGIN:VEVENT
DTSTART;TZID=UTC:20211025T080000
DTEND;TZID=UTC:20211025T080000
DTSTAMP:20260423T092854
CREATED:20211021T051021Z
LAST-MODIFIED:20211027T140819Z
UID:1058-1635148800-1635148800@34.235.98.119
SUMMARY:Register today to become a Software Engineer - MSIMBO Coding Academy
DESCRIPTION:Request An Application Today for Software Engineer (MSIMBO Coding Academy) at info@msimbo.org\nClasses start on October 25th.
URL:http://34.235.98.119/event/register-for-msimbo-classes/
LOCATION:Remote Training
CATEGORIES:ULEM Events
ATTACH;FMTTYPE=image/png:http://34.235.98.119/wp-content/uploads/2021/10/download.png
END:VEVENT
BEGIN:VEVENT
DTSTART;TZID=UTC:20211024T133000
DTEND;TZID=UTC:20211024T133000
DTSTAMP:20260423T092854
CREATED:20211021T050143Z
LAST-MODIFIED:20211027T140721Z
UID:1051-1635082200-1635082200@34.235.98.119
SUMMARY:ULEM Presents Mayoral Forum at Roxbury Branch Library in Nubian Square
DESCRIPTION:Mayoral Forum at Roxbury Branch Library in Nubian Square. A candid discussion with community & business leaders of color. Register today https://bit.ly/ULEMFORUM21
URL:http://34.235.98.119/event/mayoral-forum/
LOCATION:Roxbury branch library\, 149 Dudley St\, Roxbury\, MA\, 02119
CATEGORIES:ULEM Events
ATTACH;FMTTYPE=image/jpeg:http://34.235.98.119/wp-content/uploads/2021/10/Mayoral-Forum.jpg
END:VEVENT
BEGIN:VEVENT
DTSTART;TZID=UTC:20211021T080000
DTEND;TZID=UTC:20211231T233000
DTSTAMP:20260423T092854
CREATED:20211025T044759Z
LAST-MODIFIED:20211027T140648Z
UID:1042-1634803200-1640993400@34.235.98.119
SUMMARY:Membership Drive
DESCRIPTION:The Urban League of Eastern Massachusetts (ULEM) Invites you to Become a Member! Sign up by Monday December 8\, 2021\, and enter a drawing for two round-trip tickets\, compliments for Southwest Airlines. Be entered twice by referring a friend who joins. Go To: www.ulem.org/membership
URL:http://34.235.98.119/event/membership-drive/
CATEGORIES:ULEM Events
ATTACH;FMTTYPE=image/png:http://34.235.98.119/wp-content/uploads/2021/10/Membership-Drive.png
ORGANIZER;CN="ULEM":MAILTO:info@ulem.org
END:VEVENT
BEGIN:VEVENT
DTSTART;TZID=UTC:20210728T120000
DTEND;TZID=UTC:20210728T120000
DTSTAMP:20260423T092854
CREATED:20210721T201453Z
LAST-MODIFIED:20211116T184920Z
UID:1178-1627473600-1627473600@34.235.98.119
SUMMARY:Join our Leaders Over Lunch: Protecting Our Youth
DESCRIPTION:Join this important Leaders Over Lunch: Protecting Our Youth discussion: On Wednesday\, July 28th at 12-noon co-hosted by Dr. J. Keith Motley Consultant/President & CEO\, and Joseph Feaster\, Chairman of the Board of the Urban League of Eastern MA. It will be an hour-long discussion to tackle the most significant issues affecting youths’ physical fitness and mental health.
URL:http://34.235.98.119/event/join-our-leaders-over-lunch-protecting-our-youth/
LOCATION:Live Stream
CATEGORIES:ULEM Events
ATTACH;FMTTYPE=image/jpeg:http://34.235.98.119/wp-content/uploads/2021/10/LOL1.jpg
END:VEVENT
END:VCALENDAR